BEGIN:VCALENDAR
VERSION:2.0
CALSCALE:GREGORIAN
BEGIN:VEVENT
UID:realproducerswebinar2026@gabegunlock.com
DTSTAMP:20260419T170000Z
DTSTART:20260512T170000Z
DTEND:20260512T180000Z
SUMMARY:Real Producers Website Webinar 2026
DESCRIPTION:Join the webinar using this link: https://us06web.zoom.us/j/86905317495?pwd=n6sBSB5gQcaCMRTXom1DN8yrDqvLhX.1
LOCATION:Online (Zoom)
URL:https://us06web.zoom.us/j/86905317495?pwd=n6sBSB5gQcaCMRTXom1DN8yrDqvLhX.1
END:VEVENT
END:VCALENDAR
